BEGIN:VCALENDAR
VERSION:2.0
PRODID:-//Wandle Primary Care Network - ECPv6.15.20//NONSGML v1.0//EN
CALSCALE:GREGORIAN
METHOD:PUBLISH
X-ORIGINAL-URL:https://wandleprimarycarenetwork.co.uk
X-WR-CALDESC:Events for Wandle Primary Care Network
REFRESH-INTERVAL;VALUE=DURATION:PT1H
X-Robots-Tag:noindex
X-PUBLISHED-TTL:PT1H
BEGIN:VTIMEZONE
TZID:Europe/London
BEGIN:DAYLIGHT
TZOFFSETFROM:+0000
TZOFFSETTO:+0100
TZNAME:BST
DTSTART:20250330T010000
END:DAYLIGHT
BEGIN:STANDARD
TZOFFSETFROM:+0100
TZOFFSETTO:+0000
TZNAME:GMT
DTSTART:20251026T010000
END:STANDARD
BEGIN:DAYLIGHT
TZOFFSETFROM:+0000
TZOFFSETTO:+0100
TZNAME:BST
DTSTART:20260329T010000
END:DAYLIGHT
BEGIN:STANDARD
TZOFFSETFROM:+0100
TZOFFSETTO:+0000
TZNAME:GMT
DTSTART:20261025T010000
END:STANDARD
BEGIN:DAYLIGHT
TZOFFSETFROM:+0000
TZOFFSETTO:+0100
TZNAME:BST
DTSTART:20270328T010000
END:DAYLIGHT
BEGIN:STANDARD
TZOFFSETFROM:+0100
TZOFFSETTO:+0000
TZNAME:GMT
DTSTART:20271031T010000
END:STANDARD
END:VTIMEZONE
BEGIN:VEVENT
DTSTART;TZID=Europe/London:20260302T100000
DTEND;TZID=Europe/London:20260302T130000
DTSTAMP:20260419T130814
CREATED:20260219T125855Z
LAST-MODIFIED:20260219T125857Z
UID:5994-1772445600-1772456400@wandleprimarycarenetwork.co.uk
SUMMARY:Wandsworth Tenancy Sustainment
DESCRIPTION:Holly Matthews\, Wandsworth Tenancy Sustainment Officer\, will be joining us to provide support and advice on:Rent arrearsBenefitsDomestic budgetingSignposting to debt services
URL:https://wandleprimarycarenetwork.co.uk/event/wandsworth-tenancy-sustainment
LOCATION:Brathway Hall\, Brathway Road\, London\, SW18 4BE
END:VEVENT
BEGIN:VEVENT
DTSTART;TZID=Europe/London:20260304T133000
DTEND;TZID=Europe/London:20260304T153000
DTSTAMP:20260419T130814
CREATED:20260118T135530Z
LAST-MODIFIED:20260219T130004Z
UID:5451-1772631000-1772638200@wandleprimarycarenetwork.co.uk
SUMMARY:Places Leisure: chair-based exercises
DESCRIPTION:Join Charmaine Simmons from Places Leisure for a chair-based exercise session.
URL:https://wandleprimarycarenetwork.co.uk/event/places-leisure-chair-based-exercises
LOCATION:Brathway Hall\, Brathway Road\, London\, SW18 4BE
END:VEVENT
BEGIN:VEVENT
DTSTART;TZID=Europe/London:20260309T100000
DTEND;TZID=Europe/London:20260309T130000
DTSTAMP:20260419T130814
CREATED:20260105T093218Z
LAST-MODIFIED:20260304T140102Z
UID:5318-1773050400-1773061200@wandleprimarycarenetwork.co.uk
SUMMARY:Age UK - CANCELLED
DESCRIPTION:We are very sorry for the short notice\, but due to unforeseen circumstances\, this event has been cancelled.
URL:https://wandleprimarycarenetwork.co.uk/event/age-uk-4
LOCATION:Brathway Hall\, Brathway Road\, London\, SW18 4BE
END:VEVENT
BEGIN:VEVENT
DTSTART;TZID=Europe/London:20260309T100000
DTEND;TZID=Europe/London:20260309T130000
DTSTAMP:20260419T130814
CREATED:20260304T134716Z
LAST-MODIFIED:20260304T134718Z
UID:6048-1773050400-1773061200@wandleprimarycarenetwork.co.uk
SUMMARY:Coffee and a Chat
DESCRIPTION:Join our Social Prescriber\, Lynne\, for coffee/tea and a chat. A relaxed space to connect\, chat\, and share feedback about our services and community needs.
URL:https://wandleprimarycarenetwork.co.uk/event/coffee-and-a-chat-11
LOCATION:Brathway Hall\, Brathway Road\, London\, SW18 4BE
END:VEVENT
BEGIN:VEVENT
DTSTART;TZID=Europe/London:20260311T133000
DTEND;TZID=Europe/London:20260311T153000
DTSTAMP:20260419T130814
CREATED:20260105T093350Z
LAST-MODIFIED:20260105T093352Z
UID:5320-1773235800-1773243000@wandleprimarycarenetwork.co.uk
SUMMARY:Macmillan Cancer Support
DESCRIPTION:Join Michael from Macmillan for a community coffee/tea afternoon.
URL:https://wandleprimarycarenetwork.co.uk/event/macmillan-cancer-support-3
LOCATION:Brathway Hall\, Brathway Road\, London\, SW18 4BE
END:VEVENT
BEGIN:VEVENT
DTSTART;TZID=Europe/London:20260316T100000
DTEND;TZID=Europe/London:20260316T130000
DTSTAMP:20260419T130814
CREATED:20260219T130352Z
LAST-MODIFIED:20260219T130354Z
UID:5999-1773655200-1773666000@wandleprimarycarenetwork.co.uk
SUMMARY:Sanctuary for Sisterhood
DESCRIPTION:Join us for a talk with Aurnela Madede\, Founder and CEO of Sanctuary for Sisterhood CIC\, a community organisation empowering women through mental health awareness\, holistic wellbeing\, and creative expression.
URL:https://wandleprimarycarenetwork.co.uk/event/sanctuary-for-sisterhood
LOCATION:Brathway Hall\, Brathway Road\, London\, SW18 4BE
END:VEVENT
BEGIN:VEVENT
DTSTART;TZID=Europe/London:20260318T133000
DTEND;TZID=Europe/London:20260318T153000
DTSTAMP:20260419T130814
CREATED:20260219T130613Z
LAST-MODIFIED:20260219T130616Z
UID:6002-1773840600-1773847800@wandleprimarycarenetwork.co.uk
SUMMARY:Coffee and a Chat
DESCRIPTION:Join our Social Prescriber\, Lynne\, for coffee/tea and a chat. A relaxed space to connect\, chat\, and share feedback about our services and community needs.
URL:https://wandleprimarycarenetwork.co.uk/event/coffee-and-a-chat-10
LOCATION:Brathway Hall\, Brathway Road\, London\, SW18 4BE
END:VEVENT
BEGIN:VEVENT
DTSTART;TZID=Europe/London:20260323T100000
DTEND;TZID=Europe/London:20260323T130000
DTSTAMP:20260419T130814
CREATED:20260304T141649Z
LAST-MODIFIED:20260304T141652Z
UID:6053-1774260000-1774270800@wandleprimarycarenetwork.co.uk
SUMMARY:Ethnicity and Mental Health Improvement Project
DESCRIPTION:Join the Ethnicity and Mental Health Improvement Project (EMHIP) for a community coffee morning. EMHIP is a practical\, local service that aims to reduce inequalities for Black Minority Ethnic (BME) communities in mental health care\, specifically in areas of access\, experience and outcomes.
URL:https://wandleprimarycarenetwork.co.uk/event/ethnicity-and-mental-health-improvement-project
LOCATION:Brathway Hall\, Brathway Road\, London\, SW18 4BE
END:VEVENT
BEGIN:VEVENT
DTSTART;TZID=Europe/London:20260325T133000
DTEND;TZID=Europe/London:20260325T153000
DTSTAMP:20260419T130814
CREATED:20251204T111300Z
LAST-MODIFIED:20251204T111303Z
UID:5265-1774445400-1774452600@wandleprimarycarenetwork.co.uk
SUMMARY:Surrey Physio
DESCRIPTION:Meet a Surrey Physio practitioner for advice\, support\, and answers to your physical health and mobility questions.
URL:https://wandleprimarycarenetwork.co.uk/event/surrey-physio-5
LOCATION:Brathway Hall\, Brathway Road\, London\, SW18 4BE
END:VEVENT
BEGIN:VEVENT
DTSTART;TZID=Europe/London:20260330T100000
DTEND;TZID=Europe/London:20260330T130000
DTSTAMP:20260419T130814
CREATED:20260317T142216Z
LAST-MODIFIED:20260317T142218Z
UID:6112-1774864800-1774875600@wandleprimarycarenetwork.co.uk
SUMMARY:Ethnicity and Mental Health Improvement Project
DESCRIPTION:Join the Ethnicity and Mental Health Improvement Project (EMHIP) for a community coffee morning. EMHIP is a practical\, local service that aims to reduce inequalities for Black Minority Ethnic (BME) communities in mental health care\, specifically in areas of access\, experience and outcomes.
URL:https://wandleprimarycarenetwork.co.uk/event/ethnicity-and-mental-health-improvement-project-2
LOCATION:Brathway Hall\, Brathway Road\, London\, SW18 4BE
END:VEVENT
END:VCALENDAR