BEGIN:VCALENDAR
VERSION:2.0
PRODID:-//Wandle Primary Care Network - ECPv6.15.20//NONSGML v1.0//EN
CALSCALE:GREGORIAN
METHOD:PUBLISH
X-ORIGINAL-URL:https://wandleprimarycarenetwork.co.uk
X-WR-CALDESC:Events for Wandle Primary Care Network
REFRESH-INTERVAL;VALUE=DURATION:PT1H
X-Robots-Tag:noindex
X-PUBLISHED-TTL:PT1H
BEGIN:VTIMEZONE
TZID:Europe/London
BEGIN:DAYLIGHT
TZOFFSETFROM:+0000
TZOFFSETTO:+0100
TZNAME:BST
DTSTART:20250330T010000
END:DAYLIGHT
BEGIN:STANDARD
TZOFFSETFROM:+0100
TZOFFSETTO:+0000
TZNAME:GMT
DTSTART:20251026T010000
END:STANDARD
BEGIN:DAYLIGHT
TZOFFSETFROM:+0000
TZOFFSETTO:+0100
TZNAME:BST
DTSTART:20260329T010000
END:DAYLIGHT
BEGIN:STANDARD
TZOFFSETFROM:+0100
TZOFFSETTO:+0000
TZNAME:GMT
DTSTART:20261025T010000
END:STANDARD
BEGIN:DAYLIGHT
TZOFFSETFROM:+0000
TZOFFSETTO:+0100
TZNAME:BST
DTSTART:20270328T010000
END:DAYLIGHT
BEGIN:STANDARD
TZOFFSETFROM:+0100
TZOFFSETTO:+0000
TZNAME:GMT
DTSTART:20271031T010000
END:STANDARD
END:VTIMEZONE
BEGIN:VEVENT
DTSTART;TZID=Europe/London:20260202T100000
DTEND;TZID=Europe/London:20260202T130000
DTSTAMP:20260419T130808
CREATED:20260118T133120Z
LAST-MODIFIED:20260118T133122Z
UID:5436-1770026400-1770037200@wandleprimarycarenetwork.co.uk
SUMMARY:Trinity Hospice
DESCRIPTION:Join Lucy Williams from Trinity Hospice for an informal\, informative community coffee morning.
URL:https://wandleprimarycarenetwork.co.uk/event/trinity-hospice-2
LOCATION:Brathway Hall\, Brathway Road\, London\, SW18 4BE
END:VEVENT
BEGIN:VEVENT
DTSTART;TZID=Europe/London:20260204T133000
DTEND;TZID=Europe/London:20260204T153000
DTSTAMP:20260419T130808
CREATED:20260118T133419Z
LAST-MODIFIED:20260118T133421Z
UID:5440-1770211800-1770219000@wandleprimarycarenetwork.co.uk
SUMMARY:Places Leisure - chair-based excercise
DESCRIPTION:Places Leisure exercise programmes introduce physical activity to individuals with long-term health conditions in a safe and welcoming environment. \n\n\n\nJoin Charmaine from Places Leisure\, who will be teaching a chair-based exercise class starting at 2pm.
URL:https://wandleprimarycarenetwork.co.uk/event/places-leisure-chair-based-excercise
LOCATION:Brathway Hall\, Brathway Road\, London\, SW18 4BE
END:VEVENT
BEGIN:VEVENT
DTSTART;TZID=Europe/London:20260209T100000
DTEND;TZID=Europe/London:20260209T130000
DTSTAMP:20260419T130808
CREATED:20260105T092713Z
LAST-MODIFIED:20260105T092715Z
UID:5312-1770631200-1770642000@wandleprimarycarenetwork.co.uk
SUMMARY:Macmillan Cancer Support
DESCRIPTION:Join Michael from Macmillan for a community coffee/tea afternoon.
URL:https://wandleprimarycarenetwork.co.uk/event/macmillan-cancer-support-2
LOCATION:Brathway Hall\, Brathway Road\, London\, SW18 4BE
END:VEVENT
BEGIN:VEVENT
DTSTART;TZID=Europe/London:20260211T093000
DTEND;TZID=Europe/London:20260211T133000
DTSTAMP:20260419T130808
CREATED:20251218T143947Z
LAST-MODIFIED:20260127T111113Z
UID:5283-1770802200-1770816600@wandleprimarycarenetwork.co.uk
SUMMARY:'Beat the Blues' Mental Health Event
DESCRIPTION:Join us at the Earlsfield Library for ‘Beat the Blues’\, a neighbourhood mental health event offering opportunities to: \n\n\n\nConnect with local mental health and wellbeing organisations and access useful resources. \n\n\n\nEngage with GPs\, Social Workers\, Social Prescribers and Physios. \n\n\n\nAttending organisations include: MIND; Hestia Recovery Cafe; Wandsworth Talking Therapies; Age UK; Sanctuary for Sisterhood; Ethnicity and Mental Health Improvement Project; Happy Homes (Asian Families Network); Enable; THRIVE; Wandsworth Carers Centre; Estate Art\, Places Leisure and more…
URL:https://wandleprimarycarenetwork.co.uk/event/beat-the-blues-mental-health-event
LOCATION:Earlsfield Library\, 276 Magdalen Road\, London\, SW18 3NY
END:VEVENT
BEGIN:VEVENT
DTSTART;TZID=Europe/London:20260211T103000
DTEND;TZID=Europe/London:20260211T111500
DTSTAMP:20260419T130808
CREATED:20260125T110623Z
LAST-MODIFIED:20260203T084435Z
UID:5491-1770805800-1770808500@wandleprimarycarenetwork.co.uk
SUMMARY:Mental Health Essentials - GP Talk
DESCRIPTION:Join GPs Dr Mitali Agarwal and Dr Sacha Burgess at the Tara Theatre for an engaging talk on mental health essentials – diet\, sleep\, alcohol\, exercise and loneliness – followed by a Q&A and signposting to wellbeing services. \n\n\n\nThis event is now FULL. To be added to the waiting list for cancellations\, please email: wandlepcn.admin@nhs.net
URL:https://wandleprimarycarenetwork.co.uk/event/beat-the-blues-gp-talk-tara-theatre
LOCATION:Tara Theatre\, 356 Garratt Lane\, London\, SW18 4ES
END:VEVENT
BEGIN:VEVENT
DTSTART;TZID=Europe/London:20260211T111500
DTEND;TZID=Europe/London:20260211T120000
DTSTAMP:20260419T130808
CREATED:20260125T110801Z
LAST-MODIFIED:20260202T130517Z
UID:5495-1770808500-1770811200@wandleprimarycarenetwork.co.uk
SUMMARY:Live Karma Yoga
DESCRIPTION:Join Melissa from Live Karma Yoga at the Tara Theatre for gentle therapeutic yoga for those navigating anxiety\, depression and stress. \n\n\n\nThis event is now FULL. To be added to our waiting list\, please email: wandlepcn.admin@nhs.net
URL:https://wandleprimarycarenetwork.co.uk/event/beat-the-blues-live-karma-yoga-tara-theatre
LOCATION:Tara Theatre\, 356 Garratt Lane\, London\, SW18 4ES
END:VEVENT
BEGIN:VEVENT
DTSTART;TZID=Europe/London:20260211T120000
DTEND;TZID=Europe/London:20260211T124500
DTSTAMP:20260419T130808
CREATED:20260125T111050Z
LAST-MODIFIED:20260128T180200Z
UID:5499-1770811200-1770813900@wandleprimarycarenetwork.co.uk
SUMMARY:Wandsworth Talking Therapies
DESCRIPTION:Wandsworth Talking Therapies (part of South West London and St George’s Mental Health NHS Trust) provides free\, confidential talking therapies and support for adults (18+) experiencing depression\, general anxiety and worry\, health anxiety\, panic attacks\, social anxiety\, traumatic memories and obsessive compulsive disorder. They also offer help with other problems\, including living with a long term health condition. \n\n\n\nJoin two personnel from Wandsworth Talking Therapies for a wellbeing session.
URL:https://wandleprimarycarenetwork.co.uk/event/beat-the-blues-talk-wandsworth-tara-theatre
LOCATION:Tara Theatre\, 356 Garratt Lane\, London\, SW18 4ES
END:VEVENT
BEGIN:VEVENT
DTSTART;TZID=Europe/London:20260211T124500
DTEND;TZID=Europe/London:20260211T133000
DTSTAMP:20260419T130808
CREATED:20260125T111153Z
LAST-MODIFIED:20260203T190113Z
UID:5502-1770813900-1770816600@wandleprimarycarenetwork.co.uk
SUMMARY:Surrey Physio - Mindfulness and Relaxation
DESCRIPTION:Join a practitioner from Surrey Physio at the Tara Theatre for a session on mindfulness and relaxation. \n\n\n\nThis event is now FULL. To be added to the waiting list\, please email us at: wandlepcn.admin@nhs.net
URL:https://wandleprimarycarenetwork.co.uk/event/beat-the-blues-mindfulness-and-relaxation
LOCATION:Tara Theatre\, 356 Garratt Lane\, London\, SW18 4ES
END:VEVENT
BEGIN:VEVENT
DTSTART;TZID=Europe/London:20260216T100000
DTEND;TZID=Europe/London:20260216T130000
DTSTAMP:20260419T130808
CREATED:20260118T133911Z
LAST-MODIFIED:20260118T133913Z
UID:5443-1771236000-1771246800@wandleprimarycarenetwork.co.uk
SUMMARY:Digital Skills
DESCRIPTION:Join us for a digital skills session and community coffee morning.
URL:https://wandleprimarycarenetwork.co.uk/event/digital-skills
LOCATION:Brathway Hall\, Brathway Road\, London\, SW18 4BE
END:VEVENT
BEGIN:VEVENT
DTSTART;TZID=Europe/London:20260218T133000
DTEND;TZID=Europe/London:20260218T153000
DTSTAMP:20260419T130808
CREATED:20260118T134137Z
LAST-MODIFIED:20260118T134140Z
UID:5447-1771421400-1771428600@wandleprimarycarenetwork.co.uk
SUMMARY:Coffee and a Chat
DESCRIPTION:Join our Social Prescriber Lynne for a community coffee morning.
URL:https://wandleprimarycarenetwork.co.uk/event/coffee-and-a-chat-9
LOCATION:Brathway Hall\, Brathway Road\, London\, SW18 4BE
END:VEVENT
BEGIN:VEVENT
DTSTART;TZID=Europe/London:20260223T100000
DTEND;TZID=Europe/London:20260223T130000
DTSTAMP:20260419T130808
CREATED:20260105T093037Z
LAST-MODIFIED:20260105T093039Z
UID:5315-1771840800-1771851600@wandleprimarycarenetwork.co.uk
SUMMARY:Support for Tenants
DESCRIPTION:Tahmina Begum\, Head of Community Engagement for Support for Tenants\, will talk about free support for patients living in unsafe housing.
URL:https://wandleprimarycarenetwork.co.uk/event/support-for-tenants-3
LOCATION:Brathway Hall\, Brathway Road\, London\, SW18 4BE
END:VEVENT
BEGIN:VEVENT
DTSTART;TZID=Europe/London:20260225T133000
DTEND;TZID=Europe/London:20260225T153000
DTSTAMP:20260419T130808
CREATED:20251204T111103Z
LAST-MODIFIED:20260118T134834Z
UID:5262-1772026200-1772033400@wandleprimarycarenetwork.co.uk
SUMMARY:Surrey Physio
DESCRIPTION:Meet a Surrey Physio practitioner for advice\, support\, and answers to your physical health and mobility questions.
URL:https://wandleprimarycarenetwork.co.uk/event/surrey-physio-4
LOCATION:Brathway Hall\, Brathway Road\, London\, SW18 4BE
END:VEVENT
END:VCALENDAR